BEGIN:VCALENDAR
VERSION:2.0
PRODID:-//Squarespace Inc/Squarespace 6//v6//EN
BEGIN:VEVENT
UID:5fe7df7479fbee3cf1a4ed1f@squarespace.com
DTSTAMP:20201227T011611Z
DTSTART:20210219T220000Z
DTEND:20210221T060000Z
SUMMARY:LIVING PAʻA WORKSHOP SERIES
GEO:-28.016667;153.4
LOCATION:Gold Coast
END:VEVENT
END:VCALENDAR
